BEGIN:VCALENDAR
VERSION:2.0
PRODID:calendify.com
BEGIN:VEVENT
UID:calendify-session-E304GBX3gxA
DTSTART:20210206T124500Z
SEQUENCE:0
TRANSP:OPAQUE
DTEND:20210206T131000Z
URL:https://calendify.com/session/E304GBX3gxA
LOCATION:D.research
SUMMARY:ReplicationWiki - Transparency in the Social Sciences
CLASS:PUBLIC
DESCRIPTION:https://calendify.com/session/E304GBX3gxA
DTSTAMP:20260422T210057Z
CREATED:20210111T170319Z
LAST-MODIFIED:20210208T224803Z
END:VEVENT
END:VCALENDAR