BEGIN:VCALENDAR
VERSION:2.0
PRODID:calendify.com
BEGIN:VEVENT
UID:calendify-session-E304GBZXgxA
DTSTART:20210206T162000Z
SEQUENCE:0
TRANSP:OPAQUE
DTEND:20210206T170000Z
URL:https://calendify.com/session/E304GBZXgxA
LOCATION:D.network
SUMMARY:RobotMK: Extend Checkmk with Robot Framework E2E tests
CLASS:PUBLIC
DESCRIPTION:https://calendify.com/session/E304GBZXgxA
DTSTAMP:20260422T125005Z
CREATED:20210114T155442Z
LAST-MODIFIED:20210208T224802Z
END:VEVENT
END:VCALENDAR