BEGIN:VCALENDAR
VERSION:2.0
PRODID:calendify.com
BEGIN:VEVENT
UID:calendify-session-E304GBvqgxA
DTSTART:20210206T123000Z
SEQUENCE:0
TRANSP:OPAQUE
DTEND:20210206T125000Z
URL:https://calendify.com/session/E304GBvqgxA
LOCATION:D.collab
SUMMARY:Lessons learned while collaborating remotely in a global pandemic
CLASS:PUBLIC
DESCRIPTION:https://calendify.com/session/E304GBvqgxA
DTSTAMP:20260420T113201Z
CREATED:20210201T190822Z
LAST-MODIFIED:20210208T224802Z
END:VEVENT
END:VCALENDAR