BEGIN:VCALENDAR
VERSION:2.0
PRODID:calendify.com
BEGIN:VEVENT
UID:calendify-session-E304GBwngxA
DTSTART:20210207T125500Z
SEQUENCE:0
TRANSP:OPAQUE
DTEND:20210207T132000Z
URL:https://calendify.com/session/E304GBwngxA
LOCATION:D.containers
SUMMARY:Hybrid Cloud Open Source DBaaS with Kubernetes
CLASS:PUBLIC
DESCRIPTION:https://calendify.com/session/E304GBwngxA
DTSTAMP:20260421T013750Z
CREATED:20210111T170319Z
LAST-MODIFIED:20210208T224804Z
END:VEVENT
END:VCALENDAR