BEGIN:VCALENDAR
VERSION:2.0
PRODID:calendify.com
BEGIN:VEVENT
UID:calendify-session-E304GByqgxA
DTSTART:20210207T153000Z
SEQUENCE:0
TRANSP:OPAQUE
DTEND:20210207T160000Z
URL:https://calendify.com/session/E304GByqgxA
LOCATION:D.python
SUMMARY:Creating Data Apps using Pure Python
CLASS:PUBLIC
DESCRIPTION:https://calendify.com/session/E304GByqgxA
DTSTAMP:20260419T152449Z
CREATED:20210201T190824Z
LAST-MODIFIED:20210208T224804Z
END:VEVENT
END:VCALENDAR