BEGIN:VCALENDAR
VERSION:2.0
PRODID:calendify.com
BEGIN:VEVENT
UID:calendify-session-E304GG034xA
DTSTART:20220206T152500Z
SEQUENCE:0
TRANSP:OPAQUE
DTEND:20220206T160500Z
URL:https://calendify.com/session/E304GG034xA
LOCATION:D.ada
SUMMARY:Proving the Correctness of GNAT Light Runtime Library
CLASS:PUBLIC
DESCRIPTION:https://calendify.com/session/E304GG034xA
DTSTAMP:20260422T123125Z
CREATED:20220120T214605Z
LAST-MODIFIED:20220206T225003Z
END:VEVENT
END:VCALENDAR