BEGIN:VCALENDAR
VERSION:2.0
PRODID:calendify.com
BEGIN:VEVENT
UID:calendify-session-E304GG6N4xA
DTSTART:20220205T154500Z
SEQUENCE:0
TRANSP:OPAQUE
DTEND:20220205T160000Z
URL:https://calendify.com/session/E304GG6N4xA
LOCATION:D.research
SUMMARY:F-UJI : A Tool for the automated assessment and improvement of the 
 FAIRness of Research Data
CLASS:PUBLIC
DESCRIPTION:https://calendify.com/session/E304GG6N4xA
DTSTAMP:20260422T053612Z
CREATED:20220120T214603Z
LAST-MODIFIED:20220206T225003Z
END:VEVENT
END:VCALENDAR