BEGIN:VCALENDAR
VERSION:2.0
PRODID:calendify.com
BEGIN:VEVENT
UID:calendify-session-E304GGD54xA
DTSTART:20211228T140000Z
SEQUENCE:0
TRANSP:OPAQUE
DTEND:20211228T144000Z
URL:https://calendify.com/session/E304GGD54xA
LOCATION:r3s - Monheim/Rhein
SUMMARY:Netzpolitik in der Schweiz: Zwischen Bodensee und Matterhorn
CLASS:PUBLIC
DESCRIPTION:https://calendify.com/session/E304GGD54xA
DTSTAMP:20260420T170855Z
CREATED:20211220T014016Z
LAST-MODIFIED:20211230T225002Z
END:VEVENT
END:VCALENDAR