BEGIN:VCALENDAR
VERSION:2.0
PRODID:calendify.com
BEGIN:VEVENT
UID:calendify-session-E304GGPZ4xA
DTSTART:20220205T150000Z
SEQUENCE:0
TRANSP:OPAQUE
DTEND:20220205T152000Z
URL:https://calendify.com/session/E304GGPZ4xA
LOCATION:L.lightningtalks
SUMMARY:Generating virtual 3D exhibitions from Wikipedia
CLASS:PUBLIC
DESCRIPTION:https://calendify.com/session/E304GGPZ4xA
DTSTAMP:20260420T081317Z
CREATED:20220120T214601Z
LAST-MODIFIED:20220206T225002Z
END:VEVENT
END:VCALENDAR