BEGIN:VCALENDAR
VERSION:2.0
PRODID:calendify.com
BEGIN:VEVENT
UID:calendify-session-E304GXApOxA
DTSTART:20221227T170000Z
SEQUENCE:0
TRANSP:OPAQUE
DTEND:20221227T190000Z
URL:https://calendify.com/session/E304GXApOxA
LOCATION:Workshopraum 2 - H2-3.4
SUMMARY:Der Elefant im Verkehrs-Raum: Warum wir über Autos reden müssen
CLASS:PUBLIC
DESCRIPTION:https://calendify.com/session/E304GXApOxA
DTSTAMP:20260422T031046Z
CREATED:20221222T170030Z
LAST-MODIFIED:20221230T225007Z
END:VEVENT
END:VCALENDAR