BEGIN:VCALENDAR
VERSION:2.0
PRODID:calendify.com
BEGIN:VEVENT
UID:calendify-session-E304GXPdOxA
DTSTART:20230606T183000Z
SEQUENCE:0
TRANSP:OPAQUE
DTEND:20230606T190000Z
URL:https://calendify.com/session/E304GXPdOxA
LOCATION:Stage 4
SUMMARY:Monitoring harmful language on social media to ensure the democrati
 c processes in developing countries
CLASS:PUBLIC
DESCRIPTION:https://calendify.com/session/E304GXPdOxA
DTSTAMP:20260422T015223Z
CREATED:20230604T163759Z
LAST-MODIFIED:20230606T124205Z
END:VEVENT
END:VCALENDAR