BEGIN:VCALENDAR
VERSION:2.0
PRODID:calendify.com
BEGIN:VEVENT
UID:calendify-session-E304Gd95OxA
DTSTART:20171230T124500Z
SEQUENCE:0
TRANSP:OPAQUE
DTEND:20171230T131500Z
URL:https://calendify.com/session/E304Gd95OxA
LOCATION:Saal Adams
SUMMARY:0en & 1en auf dem Acker
CLASS:PUBLIC
DESCRIPTION:https://calendify.com/session/E304Gd95OxA
DTSTAMP:20260420T133027Z
CREATED:20200625T113327Z
LAST-MODIFIED:20200625T113327Z
END:VEVENT
END:VCALENDAR