BEGIN:VCALENDAR
VERSION:2.0
PRODID:calendify.com
BEGIN:VEVENT
UID:calendify-session-E304GdRnOxA
DTSTART:20201227T190000Z
SEQUENCE:0
TRANSP:OPAQUE
DTEND:20201227T205800Z
URL:https://calendify.com/session/E304GdRnOxA
LOCATION:c-base Berlin
SUMMARY:State of the Waffle - cbase liveschalte
CLASS:PUBLIC
DESCRIPTION:https://calendify.com/session/E304GdRnOxA
DTSTAMP:20260422T201843Z
CREATED:20201222T224545Z
LAST-MODIFIED:20211226T143435Z
END:VEVENT
END:VCALENDAR