BEGIN:VCALENDAR
VERSION:2.0
PRODID:calendify.com
BEGIN:VEVENT
UID:calendify-session-E304GdqdOxA
DTSTART:20201229T193000Z
SEQUENCE:0
TRANSP:OPAQUE
DTEND:20201229T203000Z
URL:https://calendify.com/session/E304GdqdOxA
LOCATION:KreaturWorks
SUMMARY:Guerrilla Living Syndrome
CLASS:PUBLIC
DESCRIPTION:https://calendify.com/session/E304GdqdOxA
DTSTAMP:20260422T085515Z
CREATED:20201227T210304Z
LAST-MODIFIED:20210114T154804Z
END:VEVENT
END:VCALENDAR