BEGIN:VCALENDAR
VERSION:2.0
PRODID:calendify.com
BEGIN:VEVENT
UID:calendify-session-E304Gdv1OxA
DTSTART:20201229T170000Z
SEQUENCE:0
TRANSP:OPAQUE
DTEND:20201229T174000Z
URL:https://calendify.com/session/E304Gdv1OxA
LOCATION:rC2
SUMMARY:Unconventional HDL synthesis experiments
CLASS:PUBLIC
DESCRIPTION:https://calendify.com/session/E304Gdv1OxA
DTSTAMP:20260423T043925Z
CREATED:20201221T231541Z
LAST-MODIFIED:20210114T154804Z
END:VEVENT
END:VCALENDAR