BEGIN:VCALENDAR
VERSION:2.0
PRODID:calendify.com
BEGIN:VEVENT
UID:calendify-session-E304Ge55MxA
DTSTART:20200201T093000Z
SEQUENCE:0
TRANSP:OPAQUE
DTEND:20200201T095500Z
URL:https://calendify.com/session/E304Ge55MxA
LOCATION:UB4.136
SUMMARY:Openoffice Build system
CLASS:PUBLIC
DESCRIPTION:https://calendify.com/session/E304Ge55MxA
DTSTAMP:20260421T053225Z
CREATED:20200513T234730Z
LAST-MODIFIED:20210426T093308Z
END:VEVENT
END:VCALENDAR