BEGIN:VCALENDAR
VERSION:2.0
PRODID:calendify.com
BEGIN:VEVENT
UID:calendify-session-E304GeB5MxA
DTSTART:20181227T161000Z
SEQUENCE:0
TRANSP:OPAQUE
DTEND:20181227T165000Z
URL:https://calendify.com/session/E304GeB5MxA
LOCATION:Adams
SUMMARY:Introduction to Deep Learning
CLASS:PUBLIC
DESCRIPTION:https://calendify.com/session/E304GeB5MxA
DTSTAMP:20260423T080747Z
CREATED:20200509T021756Z
LAST-MODIFIED:20200512T221856Z
END:VEVENT
END:VCALENDAR