BEGIN:VCALENDAR
VERSION:2.0
PRODID:calendify.com
BEGIN:VEVENT
UID:calendify-session-E304GeE1MxA
DTSTART:20180510T153000Z
SEQUENCE:0
TRANSP:OPAQUE
DTEND:20180510T163000Z
URL:https://calendify.com/session/E304GeE1MxA
LOCATION:Anderswo
SUMMARY:Einführung in die Chaosvermittlung
CLASS:PUBLIC
DESCRIPTION:https://calendify.com/session/E304GeE1MxA
DTSTAMP:20260420T153429Z
CREATED:20200513T011827Z
LAST-MODIFIED:20200513T011827Z
END:VEVENT
END:VCALENDAR