BEGIN:VCALENDAR
VERSION:2.0
PRODID:calendify.com
BEGIN:VEVENT
UID:calendify-session-E304GeQ5MxA
DTSTART:20200202T140000Z
SEQUENCE:0
TRANSP:OPAQUE
DTEND:20200202T145000Z
URL:https://calendify.com/session/E304GeQ5MxA
LOCATION:Janson
SUMMARY:Regaining control of your smartphone with postmarketOS and Maemo Le
 ste
CLASS:PUBLIC
DESCRIPTION:https://calendify.com/session/E304GeQ5MxA
DTSTAMP:20260423T061741Z
CREATED:20200513T234731Z
LAST-MODIFIED:20210426T093308Z
END:VEVENT
END:VCALENDAR