BEGIN:VCALENDAR
VERSION:2.0
PRODID:calendify.com
BEGIN:VEVENT
UID:calendify-session-E304GevdMxA
DTSTART:20200201T103000Z
SEQUENCE:0
TRANSP:OPAQUE
DTEND:20200201T110000Z
URL:https://calendify.com/session/E304GevdMxA
LOCATION:AW1.126
SUMMARY:NeuroFedora: Enabling Free/Open Neuroscience
CLASS:PUBLIC
DESCRIPTION:https://calendify.com/session/E304GevdMxA
DTSTAMP:20260420T200505Z
CREATED:20200513T234730Z
LAST-MODIFIED:20210426T093308Z
END:VEVENT
END:VCALENDAR