BEGIN:VCALENDAR
VERSION:2.0
PRODID:calendify.com
BEGIN:VEVENT
UID:calendify-session-E304GeydMxA
DTSTART:20200201T154500Z
SEQUENCE:0
TRANSP:OPAQUE
DTEND:20200201T161500Z
URL:https://calendify.com/session/E304GeydMxA
LOCATION:K.3.401
SUMMARY:Reviving Minitel
CLASS:PUBLIC
DESCRIPTION:https://calendify.com/session/E304GeydMxA
DTSTAMP:20260421T230546Z
CREATED:20200513T234730Z
LAST-MODIFIED:20210426T093308Z
END:VEVENT
END:VCALENDAR