BEGIN:VCALENDAR
VERSION:2.0
PRODID:calendify.com
BEGIN:VEVENT
UID:calendify-session-E304GeypMxA
DTSTART:20200201T160000Z
SEQUENCE:0
TRANSP:OPAQUE
DTEND:20200201T164000Z
URL:https://calendify.com/session/E304GeypMxA
LOCATION:K.4.201
SUMMARY:Automating Programming and Development of Heterogeneous SoCs with L
 LVM Tools
CLASS:PUBLIC
DESCRIPTION:https://calendify.com/session/E304GeypMxA
DTSTAMP:20260424T022723Z
CREATED:20200513T234730Z
LAST-MODIFIED:20210426T093308Z
END:VEVENT
END:VCALENDAR