BEGIN:VCALENDAR
VERSION:2.0
PRODID:calendify.com
BEGIN:VEVENT
UID:calendify-session-E304Gw034xA
DTSTART:20241227T210000Z
SEQUENCE:0
TRANSP:OPAQUE
DTEND:20241227T221000Z
URL:https://calendify.com/session/E304Gw034xA
LOCATION:SoS Saal E
SUMMARY:Die Demokratische Schule - Der radikalste Schulversuch Deutschlands
CLASS:PUBLIC
DESCRIPTION:https://calendify.com/session/E304Gw034xA
DTSTAMP:20260419T122853Z
CREATED:20241227T141458Z
LAST-MODIFIED:20250101T225002Z
END:VEVENT
END:VCALENDAR