BEGIN:VCALENDAR
VERSION:2.0
PRODID:calendify.com
BEGIN:VEVENT
UID:calendify-session-E304Gw134xA
DTSTART:20241229T210500Z
SEQUENCE:0
TRANSP:OPAQUE
DTEND:20241229T214500Z
URL:https://calendify.com/session/E304Gw134xA
LOCATION:Saal 1
SUMMARY:5 Jahre nach Ibiza
CLASS:PUBLIC
DESCRIPTION:https://calendify.com/session/E304Gw134xA
DTSTAMP:20260423T151112Z
CREATED:20241227T124002Z
LAST-MODIFIED:20250101T225003Z
END:VEVENT
END:VCALENDAR