BEGIN:VCALENDAR
VERSION:2.0
PRODID:calendify.com
BEGIN:VEVENT
UID:calendify-session-E304Gw934xA
DTSTART:20240921T150000Z
SEQUENCE:0
TRANSP:OPAQUE
DTEND:20240921T163000Z
URL:https://calendify.com/session/E304Gw934xA
LOCATION:Seminarraum
SUMMARY:Haben wir nicht alle ein paar Issues? Reale Probleme lösen wie Sof
 tware­entwickler:innen
CLASS:PUBLIC
DESCRIPTION:https://calendify.com/session/E304Gw934xA
DTSTAMP:20260420T233522Z
CREATED:20241208T220338Z
LAST-MODIFIED:20241208T220338Z
END:VEVENT
END:VCALENDAR