BEGIN:VCALENDAR
VERSION:2.0
PRODID:calendify.com
BEGIN:VEVENT
UID:calendify-session-E304Gwxn4xA
DTSTART:20241227T094200Z
SEQUENCE:0
TRANSP:OPAQUE
DTEND:20241227T124200Z
URL:https://calendify.com/session/E304Gwxn4xA
LOCATION:House of Tea
SUMMARY:Welcome to the House of Tea! <3
CLASS:PUBLIC
DESCRIPTION:https://calendify.com/session/E304Gwxn4xA
DTSTAMP:20260423T175847Z
CREATED:20241227T141500Z
LAST-MODIFIED:20250101T225002Z
END:VEVENT
END:VCALENDAR