BEGIN:VCALENDAR
VERSION:2.0
PRODID:calendify.com
BEGIN:VEVENT
UID:calendify-session-EQVO215L4kZ
DTSTART:20220608T170000Z
SEQUENCE:0
TRANSP:OPAQUE
DTEND:20220608T190000Z
URL:https://calendify.com/session/EQVO215L4kZ
LOCATION:Escobar
SUMMARY:re:narrating human-centered technology: a networking evening
CLASS:PUBLIC
DESCRIPTION:https://calendify.com/session/EQVO215L4kZ
DTSTAMP:20260423T173317Z
CREATED:20220526T162949Z
LAST-MODIFIED:20220613T235204Z
END:VEVENT
END:VCALENDAR