BEGIN:VCALENDAR
VERSION:2.0
PRODID:calendify.com
BEGIN:VEVENT
UID:calendify-session-EQVO216B4kZ
DTSTART:20161230T103000Z
SEQUENCE:0
TRANSP:OPAQUE
DTEND:20161230T110000Z
URL:https://calendify.com/session/EQVO216B4kZ
LOCATION:Saal 1
SUMMARY:The Economic Consequences of Internet Censorship
CLASS:PUBLIC
DESCRIPTION:https://calendify.com/session/EQVO216B4kZ
DTSTAMP:20260422T153112Z
CREATED:20220415T135303Z
LAST-MODIFIED:20220415T135303Z
END:VEVENT
END:VCALENDAR