BEGIN:VCALENDAR
VERSION:2.0
PRODID:calendify.com
BEGIN:VEVENT
UID:calendify-session-EQVO218a4kZ
DTSTART:20220206T130000Z
SEQUENCE:0
TRANSP:OPAQUE
DTEND:20220206T140000Z
URL:https://calendify.com/session/EQVO218a4kZ
LOCATION:D.postgresql
SUMMARY:Working effectively with (-support-) the community
CLASS:PUBLIC
DESCRIPTION:https://calendify.com/session/EQVO218a4kZ
DTSTAMP:20260420T183842Z
CREATED:20220120T214609Z
LAST-MODIFIED:20220206T225004Z
END:VEVENT
END:VCALENDAR