BEGIN:VCALENDAR
VERSION:2.0
PRODID:calendify.com
BEGIN:VEVENT
UID:calendify-session-EQVO21Dw4kZ
DTSTART:20151230T114500Z
SEQUENCE:0
TRANSP:OPAQUE
DTEND:20151230T124500Z
URL:https://calendify.com/session/EQVO21Dw4kZ
LOCATION:Hall 2
SUMMARY:Top X* usability obstacles
CLASS:PUBLIC
DESCRIPTION:https://calendify.com/session/EQVO21Dw4kZ
DTSTAMP:20260424T013849Z
CREATED:20220415T142918Z
LAST-MODIFIED:20220415T142918Z
END:VEVENT
END:VCALENDAR