BEGIN:VCALENDAR
VERSION:2.0
PRODID:calendify.com
BEGIN:VEVENT
UID:calendify-session-EQVO21Pa4kZ
DTSTART:20220608T103000Z
SEQUENCE:0
TRANSP:OPAQUE
DTEND:20220608T110000Z
URL:https://calendify.com/session/EQVO21Pa4kZ
LOCATION:Stage 5
SUMMARY:Daten-Macht-Missbrauch: Über die Privacy-Probleme bei der Polizei
CLASS:PUBLIC
DESCRIPTION:https://calendify.com/session/EQVO21Pa4kZ
DTSTAMP:20260423T110755Z
CREATED:20220526T162945Z
LAST-MODIFIED:20220613T235204Z
END:VEVENT
END:VCALENDAR