BEGIN:VCALENDAR
VERSION:2.0
PRODID:calendify.com
BEGIN:VEVENT
UID:calendify-session-EQVO21QB4kZ
DTSTART:20161229T103000Z
SEQUENCE:0
TRANSP:OPAQUE
DTEND:20161229T113000Z
URL:https://calendify.com/session/EQVO21QB4kZ
LOCATION:Saal 1
SUMMARY:Million Dollar Dissidents and the Rest of Us
CLASS:PUBLIC
DESCRIPTION:https://calendify.com/session/EQVO21QB4kZ
DTSTAMP:20260422T083922Z
CREATED:20220415T135303Z
LAST-MODIFIED:20220415T135303Z
END:VEVENT
END:VCALENDAR