BEGIN:VCALENDAR
VERSION:2.0
PRODID:calendify.com
BEGIN:VEVENT
UID:calendify-session-EQVO21QL4kZ
DTSTART:20161228T220000Z
SEQUENCE:0
TRANSP:OPAQUE
DTEND:20161228T230000Z
URL:https://calendify.com/session/EQVO21QL4kZ
LOCATION:Saal G
SUMMARY:ATMs how to break them to stop the fraud
CLASS:PUBLIC
DESCRIPTION:https://calendify.com/session/EQVO21QL4kZ
DTSTAMP:20260420T095315Z
CREATED:20220415T135303Z
LAST-MODIFIED:20220415T135303Z
END:VEVENT
END:VCALENDAR