BEGIN:VCALENDAR
VERSION:2.0
PRODID:calendify.com
BEGIN:VEVENT
UID:calendify-session-EQVO21p74kZ
DTSTART:20220724T140000Z
SEQUENCE:0
TRANSP:OPAQUE
DTEND:20220724T145000Z
URL:https://calendify.com/session/EQVO21p74kZ
LOCATION:Battery 🔋
SUMMARY:UBports: Imagine a phone that does everything you expect and nothin
 g you don't.
CLASS:PUBLIC
DESCRIPTION:https://calendify.com/session/EQVO21p74kZ
DTSTAMP:20260423T214438Z
CREATED:20220620T212434Z
LAST-MODIFIED:20220726T182703Z
END:VEVENT
END:VCALENDAR