BEGIN:VCALENDAR
VERSION:2.0
PRODID:calendify.com
BEGIN:VEVENT
UID:calendify-session-EQVO21xD4kZ
DTSTART:20220608T174500Z
SEQUENCE:0
TRANSP:OPAQUE
DTEND:20220608T184500Z
URL:https://calendify.com/session/EQVO21xD4kZ
LOCATION:Stage 6
SUMMARY:Let's dream up a web3 for music ­– A speculation
CLASS:PUBLIC
DESCRIPTION:https://calendify.com/session/EQVO21xD4kZ
DTSTAMP:20260423T134621Z
CREATED:20220526T162947Z
LAST-MODIFIED:20220613T235204Z
END:VEVENT
END:VCALENDAR