BEGIN:VCALENDAR
VERSION:2.0
PRODID:calendify.com
BEGIN:VEVENT
UID:calendify-session-EQVO230DMkZ
DTSTART:20210316T133000Z
SEQUENCE:0
TRANSP:OPAQUE
DTEND:20210316T143000Z
URL:https://calendify.com/session/EQVO230DMkZ
LOCATION:Spatial Chat / Social 2
SUMMARY:Facilitator Coaching Office Hours
CLASS:PUBLIC
DESCRIPTION:https://calendify.com/session/EQVO230DMkZ
DTSTAMP:20260420T185342Z
CREATED:20210426T094604Z
LAST-MODIFIED:20210426T094929Z
END:VEVENT
END:VCALENDAR