BEGIN:VCALENDAR
VERSION:2.0
PRODID:calendify.com
BEGIN:VEVENT
UID:calendify-session-EQVO231jMkZ
DTSTART:20210206T090500Z
SEQUENCE:0
TRANSP:OPAQUE
DTEND:20210206T095000Z
URL:https://calendify.com/session/EQVO231jMkZ
LOCATION:D.network
SUMMARY:What's new with OpenNMS
CLASS:PUBLIC
DESCRIPTION:https://calendify.com/session/EQVO231jMkZ
DTSTAMP:20260422T070205Z
CREATED:20210111T170319Z
LAST-MODIFIED:20210208T224802Z
END:VEVENT
END:VCALENDAR