BEGIN:VCALENDAR
VERSION:2.0
PRODID:calendify.com
BEGIN:VEVENT
UID:calendify-session-EQVO23EaMkZ
DTSTART:20210207T093000Z
SEQUENCE:0
TRANSP:OPAQUE
DTEND:20210207T095000Z
URL:https://calendify.com/session/EQVO23EaMkZ
LOCATION:D.declarative.minimalistic
SUMMARY:The Fuzion Language
CLASS:PUBLIC
DESCRIPTION:https://calendify.com/session/EQVO23EaMkZ
DTSTAMP:20260423T172443Z
CREATED:20210111T170319Z
LAST-MODIFIED:20210208T224804Z
END:VEVENT
END:VCALENDAR