BEGIN:VCALENDAR
VERSION:2.0
PRODID:calendify.com
BEGIN:VEVENT
UID:calendify-session-EQVO23KAMkZ
DTSTART:20210206T164000Z
SEQUENCE:0
TRANSP:OPAQUE
DTEND:20210206T165000Z
URL:https://calendify.com/session/EQVO23KAMkZ
LOCATION:D.research
SUMMARY:Reverse-engineering as a crossroads for investigation\, science and
  open tools and technologies
CLASS:PUBLIC
DESCRIPTION:https://calendify.com/session/EQVO23KAMkZ
DTSTAMP:20260423T144539Z
CREATED:20210111T170319Z
LAST-MODIFIED:20210208T224803Z
END:VEVENT
END:VCALENDAR