BEGIN:VCALENDAR
VERSION:2.0
PRODID:calendify.com
BEGIN:VEVENT
UID:calendify-session-EQVO23PBMkZ
DTSTART:20210206T083000Z
SEQUENCE:0
TRANSP:OPAQUE
DTEND:20210206T090000Z
URL:https://calendify.com/session/EQVO23PBMkZ
LOCATION:S.matrix
SUMMARY:Welcome to the stand for Matrix
CLASS:PUBLIC
DESCRIPTION:https://calendify.com/session/EQVO23PBMkZ
DTSTAMP:20260419T182324Z
CREATED:20210125T190820Z
LAST-MODIFIED:20210208T224803Z
END:VEVENT
END:VCALENDAR