BEGIN:VCALENDAR
VERSION:2.0
PRODID:calendify.com
BEGIN:VEVENT
UID:calendify-session-EQVO23lwMkZ
DTSTART:20210207T133000Z
SEQUENCE:0
TRANSP:OPAQUE
DTEND:20210207T140000Z
URL:https://calendify.com/session/EQVO23lwMkZ
LOCATION:S.checkmk
SUMMARY:Introducing Checkmk 2.0
CLASS:PUBLIC
DESCRIPTION:https://calendify.com/session/EQVO23lwMkZ
DTSTAMP:20260419T182345Z
CREATED:20210205T154804Z
LAST-MODIFIED:20210208T224804Z
END:VEVENT
END:VCALENDAR