BEGIN:VCALENDAR
VERSION:2.0
PRODID:calendify.com
BEGIN:VEVENT
UID:calendify-session-EQVO26E6OkZ
DTSTART:20240921T163000Z
SEQUENCE:0
TRANSP:OPAQUE
DTEND:20240921T163500Z
URL:https://calendify.com/session/EQVO26E6OkZ
LOCATION:Kabinett
SUMMARY:Lightning Talk: Vorstellung OpenStreetMap
CLASS:PUBLIC
DESCRIPTION:https://calendify.com/session/EQVO26E6OkZ
DTSTAMP:20260422T095442Z
CREATED:20241208T220338Z
LAST-MODIFIED:20241208T220338Z
END:VEVENT
END:VCALENDAR