BEGIN:VCALENDAR
VERSION:2.0
PRODID:calendify.com
BEGIN:VEVENT
UID:calendify-session-EQVO26KwOkZ
DTSTART:20241003T144042Z
SEQUENCE:0
TRANSP:OPAQUE
DTEND:20241003T153042Z
URL:https://calendify.com/session/EQVO26KwOkZ
LOCATION:C205 - Ocean Starr
SUMMARY:Heizkeller sehen und sterben
CLASS:PUBLIC
DESCRIPTION:https://calendify.com/session/EQVO26KwOkZ
DTSTAMP:20260422T153240Z
CREATED:20241208T215140Z
LAST-MODIFIED:20241208T215140Z
END:VEVENT
END:VCALENDAR