BEGIN:VCALENDAR
VERSION:2.0
PRODID:calendify.com
BEGIN:VEVENT
UID:calendify-session-EQVO26qAOkZ
DTSTART:20241228T030000Z
SEQUENCE:0
TRANSP:OPAQUE
DTEND:20241228T050000Z
URL:https://calendify.com/session/EQVO26qAOkZ
LOCATION:Chaos Computer Music Club
SUMMARY:Tatendrang.wav
CLASS:PUBLIC
DESCRIPTION:https://calendify.com/session/EQVO26qAOkZ
DTSTAMP:20260423T084952Z
CREATED:20241227T141459Z
LAST-MODIFIED:20250101T225002Z
END:VEVENT
END:VCALENDAR