BEGIN:VCALENDAR
VERSION:2.0
PRODID:calendify.com
BEGIN:VEVENT
UID:calendify-session-EQVO2Ewa4kZ
DTSTART:20241228T225500Z
SEQUENCE:0
TRANSP:OPAQUE
DTEND:20241228T235500Z
URL:https://calendify.com/session/EQVO2Ewa4kZ
LOCATION:Stage YELL
SUMMARY:Open\, Large\, and Complex: Managing a 3\,500 m² *space with 400+ 
 Members
CLASS:PUBLIC
DESCRIPTION:https://calendify.com/session/EQVO2Ewa4kZ
DTSTAMP:20260424T013920Z
CREATED:20241227T141504Z
LAST-MODIFIED:20250101T225002Z
END:VEVENT
END:VCALENDAR