BEGIN:VCALENDAR
VERSION:2.0
PRODID:calendify.com
BEGIN:VEVENT
UID:calendify-session-EQVO2GB6MkZ
DTSTART:20180510T170000Z
SEQUENCE:0
TRANSP:OPAQUE
DTEND:20180510T180000Z
URL:https://calendify.com/session/EQVO2GB6MkZ
LOCATION:ZKM_AckerSpace
SUMMARY:How we CARE
CLASS:PUBLIC
DESCRIPTION:https://calendify.com/session/EQVO2GB6MkZ
DTSTAMP:20260421T031549Z
CREATED:20200513T011827Z
LAST-MODIFIED:20200513T011827Z
END:VEVENT
END:VCALENDAR