BEGIN:VCALENDAR
VERSION:2.0
PRODID:calendify.com
BEGIN:VEVENT
UID:calendify-session-EQVO2GEBMkZ
DTSTART:20190601T190000Z
SEQUENCE:0
TRANSP:OPAQUE
DTEND:20190601T203000Z
URL:https://calendify.com/session/EQVO2GEBMkZ
LOCATION:ZKM_OpenHUB
SUMMARY:Backspace Hacker Jeopardy
CLASS:PUBLIC
DESCRIPTION:https://calendify.com/session/EQVO2GEBMkZ
DTSTAMP:20260422T023016Z
CREATED:20200509T115120Z
LAST-MODIFIED:20200509T115120Z
END:VEVENT
END:VCALENDAR