BEGIN:VCALENDAR
VERSION:2.0
PRODID:calendify.com
BEGIN:VEVENT
UID:calendify-session-EQVO2GkBMkZ
DTSTART:20200202T090000Z
SEQUENCE:0
TRANSP:OPAQUE
DTEND:20200202T092500Z
URL:https://calendify.com/session/EQVO2GkBMkZ
LOCATION:UA2.118 (Henriot)
SUMMARY:Migrating FOSDEM Companion to Kotlin
CLASS:PUBLIC
DESCRIPTION:https://calendify.com/session/EQVO2GkBMkZ
DTSTAMP:20260425T135213Z
CREATED:20200513T234735Z
LAST-MODIFIED:20210426T093310Z
END:VEVENT
END:VCALENDAR