BEGIN:VCALENDAR
VERSION:2.0
PRODID:calendify.com
BEGIN:VEVENT
UID:calendify-session-EQVO2GlDMkZ
DTSTART:20200201T120000Z
SEQUENCE:0
TRANSP:OPAQUE
DTEND:20200201T122500Z
URL:https://calendify.com/session/EQVO2GlDMkZ
LOCATION:UB2.252A (Lameere)
SUMMARY:Discover Static Code Analysis in Python with Coala Framework
CLASS:PUBLIC
DESCRIPTION:https://calendify.com/session/EQVO2GlDMkZ
DTSTAMP:20260422T214524Z
CREATED:20200513T234730Z
LAST-MODIFIED:20210426T093308Z
END:VEVENT
END:VCALENDAR