BEGIN:VCALENDAR
VERSION:2.0
PRODID:calendify.com
BEGIN:VEVENT
UID:calendify-session-EQVO2GoaMkZ
DTSTART:20200201T093000Z
SEQUENCE:0
TRANSP:OPAQUE
DTEND:20200201T100000Z
URL:https://calendify.com/session/EQVO2GoaMkZ
LOCATION:AW1.126
SUMMARY:The good and the bad sides of developing open source tools for neur
 oscience
CLASS:PUBLIC
DESCRIPTION:https://calendify.com/session/EQVO2GoaMkZ
DTSTAMP:20260422T105600Z
CREATED:20200513T234730Z
LAST-MODIFIED:20210426T093308Z
END:VEVENT
END:VCALENDAR